BEGIN:VCALENDAR
VERSION:2.0
CALSCALE:GREGORIAN
BEGIN:VEVENT
URL:https://www.learndesk.us/class/4703342611660800/lesson/a4e9e9589eb8d56c9c12b1fdcc41e8d8?ref=outlook-calendar
SUMMARY:How to setup Cloud OTA Updates for mDash Version 1.2.4 and above?
DTSTART;TZID=America/Los_Angeles:20260422T190000
DTEND;TZID=America/Los_Angeles:20260422T200000
LOCATION:https://www.learndesk.us/class/4703342611660800/lesson/a4e9e9589eb8d56c9c12b1fdcc41e8d8?ref=outlook-calendar
DESCRIPTION: https://www.learndesk.us/class/4703342611660800/lesson/a4e9e9589eb8d56c9c12b1fdcc41e8d8?ref=outlook-calendar
STATUS:CONFIRMED
SEQUENCE:3
BEGIN:VALARM
TRIGGER:-PT10M
DESCRIPTION:Class Reminder
ACTION:DISPLAY
END:VALARM
END:VEVENT
END:VCALENDAR