BEGIN:VCALENDAR
VERSION:2.0
CALSCALE:GREGORIAN
BEGIN:VEVENT
URL:https://www.learndesk.us/class/4703342611660800/lesson/97ab665c6e11d5e7b92c4801c9856ffc?ref=outlook-calendar
SUMMARY:Quiz 2
DTSTART;TZID=America/Los_Angeles:20260422T190000
DTEND;TZID=America/Los_Angeles:20260422T200000
LOCATION:https://www.learndesk.us/class/4703342611660800/lesson/97ab665c6e11d5e7b92c4801c9856ffc?ref=outlook-calendar
DESCRIPTION: https://www.learndesk.us/class/4703342611660800/lesson/97ab665c6e11d5e7b92c4801c9856ffc?ref=outlook-calendar
STATUS:CONFIRMED
SEQUENCE:3
BEGIN:VALARM
TRIGGER:-PT10M
DESCRIPTION:Class Reminder
ACTION:DISPLAY
END:VALARM
END:VEVENT
END:VCALENDAR