BEGIN:VCALENDAR
VERSION:2.0
CALSCALE:GREGORIAN
BEGIN:VEVENT
URL:https://www.learndesk.us/class/4703342611660800/lesson/2686bbb832ba1114854b7d746dc6cff9?ref=outlook-calendar
SUMMARY:Implementing Dual-Core Multitasking and Synchronization in the ESP32 Thing
DTSTART;TZID=America/Los_Angeles:20260422T190000
DTEND;TZID=America/Los_Angeles:20260422T200000
LOCATION:https://www.learndesk.us/class/4703342611660800/lesson/2686bbb832ba1114854b7d746dc6cff9?ref=outlook-calendar
DESCRIPTION: https://www.learndesk.us/class/4703342611660800/lesson/2686bbb832ba1114854b7d746dc6cff9?ref=outlook-calendar
STATUS:CONFIRMED
SEQUENCE:3
BEGIN:VALARM
TRIGGER:-PT10M
DESCRIPTION:Class Reminder
ACTION:DISPLAY
END:VALARM
END:VEVENT
END:VCALENDAR