BEGIN:VCALENDAR
VERSION:2.0
CALSCALE:GREGORIAN
BEGIN:VEVENT
URL:https://www.learndesk.us/class/4695954915590144/lesson/bc9983b58bd40e259f07e04bc2ea5a2b?ref=outlook-calendar
SUMMARY:Faulty Idiom 21
DTSTART;TZID=America/Los_Angeles:20260425T190000
DTEND;TZID=America/Los_Angeles:20260425T200000
LOCATION:https://www.learndesk.us/class/4695954915590144/lesson/bc9983b58bd40e259f07e04bc2ea5a2b?ref=outlook-calendar
DESCRIPTION: https://www.learndesk.us/class/4695954915590144/lesson/bc9983b58bd40e259f07e04bc2ea5a2b?ref=outlook-calendar
STATUS:CONFIRMED
SEQUENCE:3
BEGIN:VALARM
TRIGGER:-PT10M
DESCRIPTION:Class Reminder
ACTION:DISPLAY
END:VALARM
END:VEVENT
END:VCALENDAR