BEGIN:VCALENDAR
VERSION:2.0
CALSCALE:GREGORIAN
BEGIN:VEVENT
URL:https://www.learndesk.us/class/4695954915590144/lesson/b5c78d563c60c5bc6535678da4b6c587?ref=outlook-calendar
SUMMARY:Classification Appeal to Authority Example
DTSTART;TZID=America/Los_Angeles:20260423T190000
DTEND;TZID=America/Los_Angeles:20260423T200000
LOCATION:https://www.learndesk.us/class/4695954915590144/lesson/b5c78d563c60c5bc6535678da4b6c587?ref=outlook-calendar
DESCRIPTION: https://www.learndesk.us/class/4695954915590144/lesson/b5c78d563c60c5bc6535678da4b6c587?ref=outlook-calendar
STATUS:CONFIRMED
SEQUENCE:3
BEGIN:VALARM
TRIGGER:-PT10M
DESCRIPTION:Class Reminder
ACTION:DISPLAY
END:VALARM
END:VEVENT
END:VCALENDAR