BEGIN:VCALENDAR
VERSION:2.0
CALSCALE:GREGORIAN
BEGIN:VEVENT
URL:https://www.learndesk.us/class/4695954915590144/lesson/48e6718d2f17aaa190a1f1ec45e455b9?ref=outlook-calendar
SUMMARY:Description Questions Example 3 Question
DTSTART;TZID=America/Los_Angeles:20260422T190000
DTEND;TZID=America/Los_Angeles:20260422T200000
LOCATION:https://www.learndesk.us/class/4695954915590144/lesson/48e6718d2f17aaa190a1f1ec45e455b9?ref=outlook-calendar
DESCRIPTION: https://www.learndesk.us/class/4695954915590144/lesson/48e6718d2f17aaa190a1f1ec45e455b9?ref=outlook-calendar
STATUS:CONFIRMED
SEQUENCE:3
BEGIN:VALARM
TRIGGER:-PT10M
DESCRIPTION:Class Reminder
ACTION:DISPLAY
END:VALARM
END:VEVENT
END:VCALENDAR