BEGIN:VCALENDAR
VERSION:2.0
CALSCALE:GREGORIAN
BEGIN:VEVENT
URL:https://www.learndesk.us/class/4695954915590144/lesson/37282e0b48cc691a9495f28c38f023f2?ref=outlook-calendar
SUMMARY:Main Idea Questions Example 2 Passage
DTSTART;TZID=America/Los_Angeles:20260422T190000
DTEND;TZID=America/Los_Angeles:20260422T200000
LOCATION:https://www.learndesk.us/class/4695954915590144/lesson/37282e0b48cc691a9495f28c38f023f2?ref=outlook-calendar
DESCRIPTION: https://www.learndesk.us/class/4695954915590144/lesson/37282e0b48cc691a9495f28c38f023f2?ref=outlook-calendar
STATUS:CONFIRMED
SEQUENCE:3
BEGIN:VALARM
TRIGGER:-PT10M
DESCRIPTION:Class Reminder
ACTION:DISPLAY
END:VALARM
END:VEVENT
END:VCALENDAR