BEGIN:VCALENDAR
VERSION:2.0
CALSCALE:GREGORIAN
BEGIN:VEVENT
URL:https://www.learndesk.us/class/4695954915590144/lesson/2695f4489ed88823a5c9b789b898ba07?ref=outlook-calendar
SUMMARY:Writing Technique Questions 5
DTSTART;TZID=America/Los_Angeles:20260422T190000
DTEND;TZID=America/Los_Angeles:20260422T200000
LOCATION:https://www.learndesk.us/class/4695954915590144/lesson/2695f4489ed88823a5c9b789b898ba07?ref=outlook-calendar
DESCRIPTION: https://www.learndesk.us/class/4695954915590144/lesson/2695f4489ed88823a5c9b789b898ba07?ref=outlook-calendar
STATUS:CONFIRMED
SEQUENCE:3
BEGIN:VALARM
TRIGGER:-PT10M
DESCRIPTION:Class Reminder
ACTION:DISPLAY
END:VALARM
END:VEVENT
END:VCALENDAR