BEGIN:VCALENDAR
VERSION:2.0
CALSCALE:GREGORIAN
BEGIN:VEVENT
URL:https://www.learndesk.us/class/4695954915590144/gmat-verbal-prep-course?ref=outlook-calendar
SUMMARY:GMAT Verbal Prep Course
DTSTART;TZID=America/Los_Angeles:20260423T190000
DTEND;TZID=America/Los_Angeles:20260423T200000
LOCATION:https://www.learndesk.us/class/4695954915590144/gmat-verbal-prep-course?ref=outlook-calendar
DESCRIPTION: 
Every year, students pay $1,000 and more to test prep companies to prepare for the GMAT. Now you can get the same preparation in an online course. Although the GMAT is difficult, it is very learnable. 
What will you learn in this course?

Verbal section orientation
Reading comprehension
Arguments
Sentence correction

Features: About 500 videos are explaining the text, examples, and exercises in step-by-step detail. Mentor exercises provide hints, insight, and partial solutions to ease your transition from seeing GMAT problems solved to solving them on your own.


https://www.learndesk.us/class/4695954915590144/gmat-verbal-prep-course?ref=outlook-calendar
STATUS:CONFIRMED
SEQUENCE:3
BEGIN:VALARM
TRIGGER:-PT10M
DESCRIPTION:Class Reminder
ACTION:DISPLAY
END:VALARM
END:VEVENT
END:VCALENDAR