BEGIN:VCALENDAR
VERSION:2.0
CALSCALE:GREGORIAN
BEGIN:VEVENT
URL:https://www.learndesk.us/class/4666534607716352/lesson/8dc1aa8c06934bbf70d197fb59ced98f?ref=outlook-calendar
SUMMARY:What Causes Happiness?
DTSTART;TZID=America/Los_Angeles:20260420T190000
DTEND;TZID=America/Los_Angeles:20260420T200000
LOCATION:https://www.learndesk.us/class/4666534607716352/lesson/8dc1aa8c06934bbf70d197fb59ced98f?ref=outlook-calendar
DESCRIPTION: https://www.learndesk.us/class/4666534607716352/lesson/8dc1aa8c06934bbf70d197fb59ced98f?ref=outlook-calendar
STATUS:CONFIRMED
SEQUENCE:3
BEGIN:VALARM
TRIGGER:-PT10M
DESCRIPTION:Class Reminder
ACTION:DISPLAY
END:VALARM
END:VEVENT
END:VCALENDAR