BEGIN:VCALENDAR
VERSION:2.0
CALSCALE:GREGORIAN
BEGIN:VEVENT
URL:https://www.learndesk.us/class/4666534607716352/lesson/82f1c30fae40381bf5b47c5d359e4020?ref=outlook-calendar
SUMMARY:Happiness Checklist
DTSTART;TZID=America/Los_Angeles:20260424T190000
DTEND;TZID=America/Los_Angeles:20260424T200000
LOCATION:https://www.learndesk.us/class/4666534607716352/lesson/82f1c30fae40381bf5b47c5d359e4020?ref=outlook-calendar
DESCRIPTION: https://www.learndesk.us/class/4666534607716352/lesson/82f1c30fae40381bf5b47c5d359e4020?ref=outlook-calendar
STATUS:CONFIRMED
SEQUENCE:3
BEGIN:VALARM
TRIGGER:-PT10M
DESCRIPTION:Class Reminder
ACTION:DISPLAY
END:VALARM
END:VEVENT
END:VCALENDAR