BEGIN:VCALENDAR
VERSION:2.0
CALSCALE:GREGORIAN
BEGIN:VEVENT
URL:https://www.learndesk.us/class/4666534607716352/lesson/0b3a98db9c7c27153e9bc82e21221be4?ref=outlook-calendar
SUMMARY:What Is It and Why Do It?
DTSTART;TZID=America/Los_Angeles:20260420T190000
DTEND;TZID=America/Los_Angeles:20260420T200000
LOCATION:https://www.learndesk.us/class/4666534607716352/lesson/0b3a98db9c7c27153e9bc82e21221be4?ref=outlook-calendar
DESCRIPTION: https://www.learndesk.us/class/4666534607716352/lesson/0b3a98db9c7c27153e9bc82e21221be4?ref=outlook-calendar
STATUS:CONFIRMED
SEQUENCE:3
BEGIN:VALARM
TRIGGER:-PT10M
DESCRIPTION:Class Reminder
ACTION:DISPLAY
END:VALARM
END:VEVENT
END:VCALENDAR