BEGIN:VCALENDAR
VERSION:2.0
CALSCALE:GREGORIAN
BEGIN:VEVENT
URL:https://www.learndesk.us/class/4659663779921920/lesson/f095d0472f94301fedf57f0dc92fbe9a?ref=outlook-calendar
SUMMARY:Oracle R12 Cash Management Demo Session
DTSTART;TZID=America/Los_Angeles:20260420T190000
DTEND;TZID=America/Los_Angeles:20260420T200000
LOCATION:https://www.learndesk.us/class/4659663779921920/lesson/f095d0472f94301fedf57f0dc92fbe9a?ref=outlook-calendar
DESCRIPTION: 
Oracle R12 cash management demo session.


https://www.learndesk.us/class/4659663779921920/lesson/f095d0472f94301fedf57f0dc92fbe9a?ref=outlook-calendar
STATUS:CONFIRMED
SEQUENCE:3
BEGIN:VALARM
TRIGGER:-PT10M
DESCRIPTION:Class Reminder
ACTION:DISPLAY
END:VALARM
END:VEVENT
END:VCALENDAR