BEGIN:VCALENDAR
VERSION:2.0
CALSCALE:GREGORIAN
BEGIN:VEVENT
URL:https://www.learndesk.us/class/4659663779921920/lesson/7f3ef719885a0a8f270c134d2022728e?ref=outlook-calendar
SUMMARY:Creation of New Bank,  Creation of New Branch,  Creation of Bank Account
DTSTART;TZID=America/Los_Angeles:20260420T190000
DTEND;TZID=America/Los_Angeles:20260420T200000
LOCATION:https://www.learndesk.us/class/4659663779921920/lesson/7f3ef719885a0a8f270c134d2022728e?ref=outlook-calendar
DESCRIPTION: 
Creation of new bank
Creation of new branch
Creation of bank account


https://www.learndesk.us/class/4659663779921920/lesson/7f3ef719885a0a8f270c134d2022728e?ref=outlook-calendar
STATUS:CONFIRMED
SEQUENCE:3
BEGIN:VALARM
TRIGGER:-PT10M
DESCRIPTION:Class Reminder
ACTION:DISPLAY
END:VALARM
END:VEVENT
END:VCALENDAR