BEGIN:VCALENDAR
VERSION:2.0
CALSCALE:GREGORIAN
BEGIN:VEVENT
URL:https://www.learndesk.us/class/4659663779921920/lesson/631c5ef9508c3f08d26e99a15c81936c?ref=outlook-calendar
SUMMARY:Forecasting Vs Reconciliation, Bank Charges, Bank Transfer
DTSTART;TZID=America/Los_Angeles:20260422T190000
DTEND;TZID=America/Los_Angeles:20260422T200000
LOCATION:https://www.learndesk.us/class/4659663779921920/lesson/631c5ef9508c3f08d26e99a15c81936c?ref=outlook-calendar
DESCRIPTION: 
Forecasting vs reconciliation
Bank charges
Bank transfer


https://www.learndesk.us/class/4659663779921920/lesson/631c5ef9508c3f08d26e99a15c81936c?ref=outlook-calendar
STATUS:CONFIRMED
SEQUENCE:3
BEGIN:VALARM
TRIGGER:-PT10M
DESCRIPTION:Class Reminder
ACTION:DISPLAY
END:VALARM
END:VEVENT
END:VCALENDAR