BEGIN:VCALENDAR
VERSION:2.0
CALSCALE:GREGORIAN
BEGIN:VEVENT
URL:https://www.learndesk.us/class/4632040072806400/lesson/fda66774a1cf3d781f66501e24226e68?ref=outlook-calendar
SUMMARY:Working with project files
DTSTART;TZID=America/Los_Angeles:20260421T190000
DTEND;TZID=America/Los_Angeles:20260421T200000
LOCATION:https://www.learndesk.us/class/4632040072806400/lesson/fda66774a1cf3d781f66501e24226e68?ref=outlook-calendar
DESCRIPTION: In this video, I will explain how to use and access project files for this course.

https://www.learndesk.us/class/4632040072806400/lesson/fda66774a1cf3d781f66501e24226e68?ref=outlook-calendar
STATUS:CONFIRMED
SEQUENCE:3
BEGIN:VALARM
TRIGGER:-PT10M
DESCRIPTION:Class Reminder
ACTION:DISPLAY
END:VALARM
END:VEVENT
END:VCALENDAR