BEGIN:VCALENDAR
VERSION:2.0
CALSCALE:GREGORIAN
BEGIN:VEVENT
URL:https://www.learndesk.us/class/4632040072806400/lesson/fc56cb0a487d957734b292074bf69ad4?ref=outlook-calendar
SUMMARY:CREATING A GRAPHICAL USER INTERFACE IN MAYA
DTSTART;TZID=America/Los_Angeles:20260421T190000
DTEND;TZID=America/Los_Angeles:20260421T200000
LOCATION:https://www.learndesk.us/class/4632040072806400/lesson/fc56cb0a487d957734b292074bf69ad4?ref=outlook-calendar
DESCRIPTION: IN THIS COURSE I WILL OUTLINE AND DEMONSTRATE HOW YOU CAN CREATE AN EASY TO USE GUI FOR YOUR CHARACTERS.

https://www.learndesk.us/class/4632040072806400/lesson/fc56cb0a487d957734b292074bf69ad4?ref=outlook-calendar
STATUS:CONFIRMED
SEQUENCE:3
BEGIN:VALARM
TRIGGER:-PT10M
DESCRIPTION:Class Reminder
ACTION:DISPLAY
END:VALARM
END:VEVENT
END:VCALENDAR