BEGIN:VCALENDAR
VERSION:2.0
CALSCALE:GREGORIAN
BEGIN:VEVENT
URL:https://www.learndesk.us/class/4632040072806400/lesson/ee412f7f496a766668665753b3b24747?ref=outlook-calendar
SUMMARY:Importance of a graphical user interface in a character rig
DTSTART;TZID=America/Los_Angeles:20260421T190000
DTEND;TZID=America/Los_Angeles:20260421T200000
LOCATION:https://www.learndesk.us/class/4632040072806400/lesson/ee412f7f496a766668665753b3b24747?ref=outlook-calendar
DESCRIPTION: In this video, I will explain why you might have to use a facial GUI rig for your characters.

https://www.learndesk.us/class/4632040072806400/lesson/ee412f7f496a766668665753b3b24747?ref=outlook-calendar
STATUS:CONFIRMED
SEQUENCE:3
BEGIN:VALARM
TRIGGER:-PT10M
DESCRIPTION:Class Reminder
ACTION:DISPLAY
END:VALARM
END:VEVENT
END:VCALENDAR