BEGIN:VCALENDAR
VERSION:2.0
CALSCALE:GREGORIAN
BEGIN:VEVENT
URL:https://www.learndesk.us/class/4632040072806400/lesson/c323407c209f86412afb67ae458a73f7?ref=outlook-calendar
SUMMARY:Fine tuning your gui
DTSTART;TZID=America/Los_Angeles:20260425T190000
DTEND;TZID=America/Los_Angeles:20260425T200000
LOCATION:https://www.learndesk.us/class/4632040072806400/lesson/c323407c209f86412afb67ae458a73f7?ref=outlook-calendar
DESCRIPTION: In this lesson, I will show you some options you should consider when placing the nurbs curves.

https://www.learndesk.us/class/4632040072806400/lesson/c323407c209f86412afb67ae458a73f7?ref=outlook-calendar
STATUS:CONFIRMED
SEQUENCE:3
BEGIN:VALARM
TRIGGER:-PT10M
DESCRIPTION:Class Reminder
ACTION:DISPLAY
END:VALARM
END:VEVENT
END:VCALENDAR