BEGIN:VCALENDAR
VERSION:2.0
CALSCALE:GREGORIAN
BEGIN:VEVENT
URL:https://www.learndesk.us/class/4632040072806400/lesson/9c4c4d39bb7f739de226990a9d990329?ref=outlook-calendar
SUMMARY:Adding text to the gui
DTSTART;TZID=America/Los_Angeles:20260421T190000
DTEND;TZID=America/Los_Angeles:20260421T200000
LOCATION:https://www.learndesk.us/class/4632040072806400/lesson/9c4c4d39bb7f739de226990a9d990329?ref=outlook-calendar
DESCRIPTION: In this lesson, I will show you how to attach text to define controls in the GUI.

https://www.learndesk.us/class/4632040072806400/lesson/9c4c4d39bb7f739de226990a9d990329?ref=outlook-calendar
STATUS:CONFIRMED
SEQUENCE:3
BEGIN:VALARM
TRIGGER:-PT10M
DESCRIPTION:Class Reminder
ACTION:DISPLAY
END:VALARM
END:VEVENT
END:VCALENDAR