BEGIN:VCALENDAR
VERSION:2.0
CALSCALE:GREGORIAN
BEGIN:VEVENT
URL:https://www.learndesk.us/class/4632040072806400/lesson/7f7676a053f8fcd0c723d8dc1981e611?ref=outlook-calendar
SUMMARY:Conclusion
DTSTART;TZID=America/Los_Angeles:20260421T190000
DTEND;TZID=America/Los_Angeles:20260421T200000
LOCATION:https://www.learndesk.us/class/4632040072806400/lesson/7f7676a053f8fcd0c723d8dc1981e611?ref=outlook-calendar
DESCRIPTION: In this lesson, I will finish up on creating the UI and clean up everything.

https://www.learndesk.us/class/4632040072806400/lesson/7f7676a053f8fcd0c723d8dc1981e611?ref=outlook-calendar
STATUS:CONFIRMED
SEQUENCE:3
BEGIN:VALARM
TRIGGER:-PT10M
DESCRIPTION:Class Reminder
ACTION:DISPLAY
END:VALARM
END:VEVENT
END:VCALENDAR