BEGIN:VCALENDAR
VERSION:2.0
CALSCALE:GREGORIAN
BEGIN:VEVENT
URL:https://www.learndesk.us/class/4632040072806400/lesson/675165b4acf705fac413a3eb14547348?ref=outlook-calendar
SUMMARY:Designing the user interface
DTSTART;TZID=America/Los_Angeles:20260425T190000
DTEND;TZID=America/Los_Angeles:20260425T200000
LOCATION:https://www.learndesk.us/class/4632040072806400/lesson/675165b4acf705fac413a3eb14547348?ref=outlook-calendar
DESCRIPTION: I will introduce you to designing the graphical username interface.

https://www.learndesk.us/class/4632040072806400/lesson/675165b4acf705fac413a3eb14547348?ref=outlook-calendar
STATUS:CONFIRMED
SEQUENCE:3
BEGIN:VALARM
TRIGGER:-PT10M
DESCRIPTION:Class Reminder
ACTION:DISPLAY
END:VALARM
END:VEVENT
END:VCALENDAR