BEGIN:VCALENDAR
VERSION:2.0
CALSCALE:GREGORIAN
BEGIN:VEVENT
URL:https://www.learndesk.us/class/4632040072806400/lesson/5700cda3f9e71c6ccb9762f6ef20924d?ref=outlook-calendar
SUMMARY:INTRO
DTSTART;TZID=America/Los_Angeles:20260421T190000
DTEND;TZID=America/Los_Angeles:20260421T200000
LOCATION:https://www.learndesk.us/class/4632040072806400/lesson/5700cda3f9e71c6ccb9762f6ef20924d?ref=outlook-calendar
DESCRIPTION: In this video, I will ex[lain what the course is about and what to expect.

https://www.learndesk.us/class/4632040072806400/lesson/5700cda3f9e71c6ccb9762f6ef20924d?ref=outlook-calendar
STATUS:CONFIRMED
SEQUENCE:3
BEGIN:VALARM
TRIGGER:-PT10M
DESCRIPTION:Class Reminder
ACTION:DISPLAY
END:VALARM
END:VEVENT
END:VCALENDAR