BEGIN:VCALENDAR
VERSION:2.0
CALSCALE:GREGORIAN
BEGIN:VEVENT
URL:https://www.learndesk.us/class/4632040072806400/lesson/2a901ea6c764eb1dc33686ae068c656b?ref=outlook-calendar
SUMMARY:Project files
DTSTART;TZID=America/Los_Angeles:20260421T190000
DTEND;TZID=America/Los_Angeles:20260421T200000
LOCATION:https://www.learndesk.us/class/4632040072806400/lesson/2a901ea6c764eb1dc33686ae068c656b?ref=outlook-calendar
DESCRIPTION: There is a link in the text that will take you to mega.nz to download the project files you will need for this course.

https://www.learndesk.us/class/4632040072806400/lesson/2a901ea6c764eb1dc33686ae068c656b?ref=outlook-calendar
STATUS:CONFIRMED
SEQUENCE:3
BEGIN:VALARM
TRIGGER:-PT10M
DESCRIPTION:Class Reminder
ACTION:DISPLAY
END:VALARM
END:VEVENT
END:VCALENDAR