BEGIN:VCALENDAR
VERSION:2.0
CALSCALE:GREGORIAN
BEGIN:VEVENT
URL:https://www.learndesk.us/class/4632040072806400/lesson/1af598f9d62604bc441b63eb9c10b7b3?ref=outlook-calendar
SUMMARY:Contuining to work with adobe illustrator
DTSTART;TZID=America/Los_Angeles:20260421T190000
DTEND;TZID=America/Los_Angeles:20260421T200000
LOCATION:https://www.learndesk.us/class/4632040072806400/lesson/1af598f9d62604bc441b63eb9c10b7b3?ref=outlook-calendar
DESCRIPTION: In this lesson, I will show you to design controls using adobe illustrator and importing them into Maya

https://www.learndesk.us/class/4632040072806400/lesson/1af598f9d62604bc441b63eb9c10b7b3?ref=outlook-calendar
STATUS:CONFIRMED
SEQUENCE:3
BEGIN:VALARM
TRIGGER:-PT10M
DESCRIPTION:Class Reminder
ACTION:DISPLAY
END:VALARM
END:VEVENT
END:VCALENDAR