BEGIN:VCALENDAR
VERSION:2.0
CALSCALE:GREGORIAN
BEGIN:VEVENT
URL:https://www.learndesk.us/class/4632040072806400/creating-a-facial-gui-rig-using-blenshapes-in-maya-2017?ref=outlook-calendar
SUMMARY:Creating a facial GUI rig using blenshapes in Maya 2017
DTSTART;TZID=America/Los_Angeles:20260421T190000
DTEND;TZID=America/Los_Angeles:20260421T200000
LOCATION:https://www.learndesk.us/class/4632040072806400/creating-a-facial-gui-rig-using-blenshapes-in-maya-2017?ref=outlook-calendar
DESCRIPTION: In this course, I will guide you on how to get started using blend shapes to create appealing facial expressions, that will make your characters more appealing. I will also guide you on how to create a simple graphical user interface that can control your facial expressions. I will also show you some tips and tricks on how to use adobe illustrator to create controls curves for the graphical user interface.

https://www.learndesk.us/class/4632040072806400/creating-a-facial-gui-rig-using-blenshapes-in-maya-2017?ref=outlook-calendar
STATUS:CONFIRMED
SEQUENCE:3
BEGIN:VALARM
TRIGGER:-PT10M
DESCRIPTION:Class Reminder
ACTION:DISPLAY
END:VALARM
END:VEVENT
END:VCALENDAR