BEGIN:VCALENDAR
VERSION:2.0
CALSCALE:GREGORIAN
BEGIN:VEVENT
URL:https://www.learndesk.us/class/4624190789386240/lesson/eb10310ccd4c29599ddf9868f95de2ea?ref=outlook-calendar
SUMMARY:03 Generic Walk: Alternative
DTSTART;TZID=America/Los_Angeles:20260421T190000
DTEND;TZID=America/Los_Angeles:20260421T200000
LOCATION:https://www.learndesk.us/class/4624190789386240/lesson/eb10310ccd4c29599ddf9868f95de2ea?ref=outlook-calendar
DESCRIPTION: In this section, you will be shown two important aspects of "Polishing" your action, in order to give it a little more personality without actually changing the action.

https://www.learndesk.us/class/4624190789386240/lesson/eb10310ccd4c29599ddf9868f95de2ea?ref=outlook-calendar
STATUS:CONFIRMED
SEQUENCE:3
BEGIN:VALARM
TRIGGER:-PT10M
DESCRIPTION:Class Reminder
ACTION:DISPLAY
END:VALARM
END:VEVENT
END:VCALENDAR