BEGIN:VCALENDAR
VERSION:2.0
CALSCALE:GREGORIAN
BEGIN:VEVENT
URL:https://www.learndesk.us/class/4624190789386240/lesson/e0b40f01a26c5c5aadcca78dae4b42dc?ref=outlook-calendar
SUMMARY:05 Double Bounce Walk: Polishing
DTSTART;TZID=America/Los_Angeles:20260421T190000
DTEND;TZID=America/Los_Angeles:20260421T200000
LOCATION:https://www.learndesk.us/class/4624190789386240/lesson/e0b40f01a26c5c5aadcca78dae4b42dc?ref=outlook-calendar
DESCRIPTION: https://www.learndesk.us/class/4624190789386240/lesson/e0b40f01a26c5c5aadcca78dae4b42dc?ref=outlook-calendar
STATUS:CONFIRMED
SEQUENCE:3
BEGIN:VALARM
TRIGGER:-PT10M
DESCRIPTION:Class Reminder
ACTION:DISPLAY
END:VALARM
END:VEVENT
END:VCALENDAR