BEGIN:VCALENDAR
VERSION:2.0
CALSCALE:GREGORIAN
BEGIN:VEVENT
URL:https://www.learndesk.us/class/4624190789386240/lesson/c9653f4047d842f2e36a0fa108f71b84?ref=outlook-calendar
SUMMARY:Welcome to My "Virtual apprentice" Series of Course
DTSTART;TZID=America/Los_Angeles:20260421T190000
DTEND;TZID=America/Los_Angeles:20260421T200000
LOCATION:https://www.learndesk.us/class/4624190789386240/lesson/c9653f4047d842f2e36a0fa108f71b84?ref=outlook-calendar
DESCRIPTION: 
I was fortunate at the beginning of my career to apprentice with some of the finest Master Animators who have ever been. Luminaries like Ken Harris (Warner Brothers), Art Babbit (Disney), and Richard Williams (3 x Oscar winner) would share their knowledge and their knowledge and their thoughts with me as I stood at their shoulders and watched them work.
When they could trust me, they allowed me to assist them. When they considered me well enough, they allowed me to animate small parts of what they were working on, until I eventually became a director/animator in my own right. This was the process that created Master Animators. Sadly, my teachers and the apprenticeship system are long gone so. So now, towards the end of my own career, I want to share a similar process with you. I cannot create virtually the complete apprenticeship experience, but I can enable you to effectively set at my shoulder and hear my thoughts as I explain the principles of animated walks to you.
All of my...

https://www.learndesk.us/class/4624190789386240/lesson/c9653f4047d842f2e36a0fa108f71b84?ref=outlook-calendar
STATUS:CONFIRMED
SEQUENCE:3
BEGIN:VALARM
TRIGGER:-PT10M
DESCRIPTION:Class Reminder
ACTION:DISPLAY
END:VALARM
END:VEVENT
END:VCALENDAR