BEGIN:VCALENDAR
VERSION:2.0
CALSCALE:GREGORIAN
BEGIN:VEVENT
URL:https://www.learndesk.us/class/4624190789386240/lesson/9a952d7100a7f08f7d46c1eb9fbe4e39?ref=outlook-calendar
SUMMARY:01 Generic Walk: Blocking
DTSTART;TZID=America/Los_Angeles:20260421T190000
DTEND;TZID=America/Los_Angeles:20260421T200000
LOCATION:https://www.learndesk.us/class/4624190789386240/lesson/9a952d7100a7f08f7d46c1eb9fbe4e39?ref=outlook-calendar
DESCRIPTION: In the bonus section, you will see how a modification to the "Character rig" can make a huge difference in terms of the convincing performance of your character doing a generic walk.

https://www.learndesk.us/class/4624190789386240/lesson/9a952d7100a7f08f7d46c1eb9fbe4e39?ref=outlook-calendar
STATUS:CONFIRMED
SEQUENCE:3
BEGIN:VALARM
TRIGGER:-PT10M
DESCRIPTION:Class Reminder
ACTION:DISPLAY
END:VALARM
END:VEVENT
END:VCALENDAR