BEGIN:VCALENDAR
VERSION:2.0
CALSCALE:GREGORIAN
BEGIN:VEVENT
URL:https://www.learndesk.us/class/4624190789386240/lesson/4af0b200560ad4b074fc5c8402d110a4?ref=outlook-calendar
SUMMARY:11 Limp Walk: Polishing
DTSTART;TZID=America/Los_Angeles:20260421T190000
DTEND;TZID=America/Los_Angeles:20260421T200000
LOCATION:https://www.learndesk.us/class/4624190789386240/lesson/4af0b200560ad4b074fc5c8402d110a4?ref=outlook-calendar
DESCRIPTION: https://www.learndesk.us/class/4624190789386240/lesson/4af0b200560ad4b074fc5c8402d110a4?ref=outlook-calendar
STATUS:CONFIRMED
SEQUENCE:3
BEGIN:VALARM
TRIGGER:-PT10M
DESCRIPTION:Class Reminder
ACTION:DISPLAY
END:VALARM
END:VEVENT
END:VCALENDAR