BEGIN:VCALENDAR
VERSION:2.0
CALSCALE:GREGORIAN
BEGIN:VEVENT
URL:https://www.learndesk.us/class/4624190789386240/lesson/3ef0dd330992b4122a9e0164e24adc48?ref=outlook-calendar
SUMMARY:07 Sneak Walk: Polishing
DTSTART;TZID=America/Los_Angeles:20260421T190000
DTEND;TZID=America/Los_Angeles:20260421T200000
LOCATION:https://www.learndesk.us/class/4624190789386240/lesson/3ef0dd330992b4122a9e0164e24adc48?ref=outlook-calendar
DESCRIPTION: https://www.learndesk.us/class/4624190789386240/lesson/3ef0dd330992b4122a9e0164e24adc48?ref=outlook-calendar
STATUS:CONFIRMED
SEQUENCE:3
BEGIN:VALARM
TRIGGER:-PT10M
DESCRIPTION:Class Reminder
ACTION:DISPLAY
END:VALARM
END:VEVENT
END:VCALENDAR