BEGIN:VCALENDAR
VERSION:2.0
CALSCALE:GREGORIAN
BEGIN:VEVENT
URL:https://www.learndesk.us/class/4624190789386240/lesson/1be048bda03ae928fde4b1ea40071944?ref=outlook-calendar
SUMMARY:12 (Bonus) Front Walk: Balance
DTSTART;TZID=America/Los_Angeles:20260421T190000
DTEND;TZID=America/Los_Angeles:20260421T200000
LOCATION:https://www.learndesk.us/class/4624190789386240/lesson/1be048bda03ae928fde4b1ea40071944?ref=outlook-calendar
DESCRIPTION: https://www.learndesk.us/class/4624190789386240/lesson/1be048bda03ae928fde4b1ea40071944?ref=outlook-calendar
STATUS:CONFIRMED
SEQUENCE:3
BEGIN:VALARM
TRIGGER:-PT10M
DESCRIPTION:Class Reminder
ACTION:DISPLAY
END:VALARM
END:VEVENT
END:VCALENDAR