BEGIN:VCALENDAR
VERSION:2.0
CALSCALE:GREGORIAN
BEGIN:VEVENT
URL:https://www.learndesk.us/class/4624190789386240/walking-the-walk-with-tony-white?ref=outlook-calendar
SUMMARY:"Walking The Walk" With Tony White
DTSTART;TZID=America/Los_Angeles:20260421T190000
DTEND;TZID=America/Los_Angeles:20260421T200000
LOCATION:https://www.learndesk.us/class/4624190789386240/walking-the-walk-with-tony-white?ref=outlook-calendar
DESCRIPTION: What is the 2D Academy's "Virtual Apprenticeship Series"?

These are a series of on-demand animation classes, taught by award-winning master animator, Tony White, who at the beginning of his career apprenticed with some of the greatest Master Animators from the past. Luminaries such Ken Harris (Warner Brothers/Bugs Bunny/Roadrunner), Art Babbit (Disney/Pinocchio/Fantasia), and Richard Williams (3 x Oscar winner) made Tony realize that standing at their shoulders as they worked and hearing their thinking processes as they animated is the finest way of learning. Consequently, Tony is trying to give a similar experience to the young animators of today as they begin their animation journey.
Why walks?
As all of Tony's teachers explained to him in the past, "animated walks" are the hardest thing to create convincingly. However, they further explained to him that if you could pull one off successfully, then you are capable of animating pretty much anything - as the principles involved in...

https://www.learndesk.us/class/4624190789386240/walking-the-walk-with-tony-white?ref=outlook-calendar
STATUS:CONFIRMED
SEQUENCE:3
BEGIN:VALARM
TRIGGER:-PT10M
DESCRIPTION:Class Reminder
ACTION:DISPLAY
END:VALARM
END:VEVENT
END:VCALENDAR