BEGIN:VCALENDAR
VERSION:2.0
CALSCALE:GREGORIAN
BEGIN:VEVENT
URL:https://www.learndesk.us/class/4608670140727296/lesson/f8e3ea7ddb24c3db10ba2155e035bde2?ref=outlook-calendar
SUMMARY:WHERE Property For Filtering
DTSTART;TZID=America/Los_Angeles:20260423T190000
DTEND;TZID=America/Los_Angeles:20260423T200000
LOCATION:https://www.learndesk.us/class/4608670140727296/lesson/f8e3ea7ddb24c3db10ba2155e035bde2?ref=outlook-calendar
DESCRIPTION: The WHERE clause is used to filter records.

The WHERE clause is used to extract only those records that fulfill a specified condition.

https://www.learndesk.us/class/4608670140727296/lesson/f8e3ea7ddb24c3db10ba2155e035bde2?ref=outlook-calendar
STATUS:CONFIRMED
SEQUENCE:3
BEGIN:VALARM
TRIGGER:-PT10M
DESCRIPTION:Class Reminder
ACTION:DISPLAY
END:VALARM
END:VEVENT
END:VCALENDAR