BEGIN:VCALENDAR
VERSION:2.0
CALSCALE:GREGORIAN
BEGIN:VEVENT
URL:https://www.learndesk.us/class/4608670140727296/lesson/f4982e1edc74b51660d5f9a2649a5fb1?ref=outlook-calendar
SUMMARY:Read Single Character (fgetc())
DTSTART;TZID=America/Los_Angeles:20260423T190000
DTEND;TZID=America/Los_Angeles:20260423T200000
LOCATION:https://www.learndesk.us/class/4608670140727296/lesson/f4982e1edc74b51660d5f9a2649a5fb1?ref=outlook-calendar
DESCRIPTION: The fgetc() function is used to read a single character from a file.

https://www.learndesk.us/class/4608670140727296/lesson/f4982e1edc74b51660d5f9a2649a5fb1?ref=outlook-calendar
STATUS:CONFIRMED
SEQUENCE:3
BEGIN:VALARM
TRIGGER:-PT10M
DESCRIPTION:Class Reminder
ACTION:DISPLAY
END:VALARM
END:VEVENT
END:VCALENDAR