BEGIN:VCALENDAR
VERSION:2.0
CALSCALE:GREGORIAN
BEGIN:VEVENT
URL:https://www.learndesk.us/class/4608670140727296/lesson/f41aa2ee20ae4b399b90342085d133e3?ref=outlook-calendar
SUMMARY:foreach Loop
DTSTART;TZID=America/Los_Angeles:20260423T190000
DTEND;TZID=America/Los_Angeles:20260423T200000
LOCATION:https://www.learndesk.us/class/4608670140727296/lesson/f41aa2ee20ae4b399b90342085d133e3?ref=outlook-calendar
DESCRIPTION: Looping in a programming language is a way to execute a statement or a set of statements multiple numbers of times depending on the result of a condition to be evaluated. The resulting condition should be true to execute statements within loops. The foreach loop is used to iterate over the elements of the collection.

https://www.learndesk.us/class/4608670140727296/lesson/f41aa2ee20ae4b399b90342085d133e3?ref=outlook-calendar
STATUS:CONFIRMED
SEQUENCE:3
BEGIN:VALARM
TRIGGER:-PT10M
DESCRIPTION:Class Reminder
ACTION:DISPLAY
END:VALARM
END:VEVENT
END:VCALENDAR