BEGIN:VCALENDAR
VERSION:2.0
CALSCALE:GREGORIAN
BEGIN:VEVENT
URL:https://www.learndesk.us/class/4608670140727296/lesson/f3138dc91046f998c61fa0a4392ee9f2?ref=outlook-calendar
SUMMARY:Email Attachments Using PHPMailer
DTSTART;TZID=America/Los_Angeles:20260423T190000
DTEND;TZID=America/Los_Angeles:20260423T200000
LOCATION:https://www.learndesk.us/class/4608670140727296/lesson/f3138dc91046f998c61fa0a4392ee9f2?ref=outlook-calendar
DESCRIPTION: The mail() function doesn’t support attachment or HTML mail by default. It is better to use PHPMailer.

https://www.learndesk.us/class/4608670140727296/lesson/f3138dc91046f998c61fa0a4392ee9f2?ref=outlook-calendar
STATUS:CONFIRMED
SEQUENCE:3
BEGIN:VALARM
TRIGGER:-PT10M
DESCRIPTION:Class Reminder
ACTION:DISPLAY
END:VALARM
END:VEVENT
END:VCALENDAR