BEGIN:VCALENDAR
VERSION:2.0
CALSCALE:GREGORIAN
BEGIN:VEVENT
URL:https://www.learndesk.us/class/4608670140727296/lesson/f114a1a82d4b95406884d56d29242787?ref=outlook-calendar
SUMMARY:Variable Scope
DTSTART;TZID=America/Los_Angeles:20260423T190000
DTEND;TZID=America/Los_Angeles:20260423T200000
LOCATION:https://www.learndesk.us/class/4608670140727296/lesson/f114a1a82d4b95406884d56d29242787?ref=outlook-calendar
DESCRIPTION: Scope refers to the visibility of variables. In other words, which parts of your program can see or use it. Normally, every variable has a global scope. Once defined, every part of your program can access a variable. It is very useful to be able to limit a variable's scope to a single function.

https://www.learndesk.us/class/4608670140727296/lesson/f114a1a82d4b95406884d56d29242787?ref=outlook-calendar
STATUS:CONFIRMED
SEQUENCE:3
BEGIN:VALARM
TRIGGER:-PT10M
DESCRIPTION:Class Reminder
ACTION:DISPLAY
END:VALARM
END:VEVENT
END:VCALENDAR