BEGIN:VCALENDAR
VERSION:2.0
CALSCALE:GREGORIAN
BEGIN:VEVENT
URL:https://www.learndesk.us/class/4608670140727296/lesson/ef30c64dd625b705b218faa7773ec5f4?ref=outlook-calendar
SUMMARY:Insert Data Using INSERT Query
DTSTART;TZID=America/Los_Angeles:20260423T190000
DTEND;TZID=America/Los_Angeles:20260423T200000
LOCATION:https://www.learndesk.us/class/4608670140727296/lesson/ef30c64dd625b705b218faa7773ec5f4?ref=outlook-calendar
DESCRIPTION: The INSERT INTO statement is used to insert new records in a table.

https://www.learndesk.us/class/4608670140727296/lesson/ef30c64dd625b705b218faa7773ec5f4?ref=outlook-calendar
STATUS:CONFIRMED
SEQUENCE:3
BEGIN:VALARM
TRIGGER:-PT10M
DESCRIPTION:Class Reminder
ACTION:DISPLAY
END:VALARM
END:VEVENT
END:VCALENDAR