BEGIN:VCALENDAR
VERSION:2.0
CALSCALE:GREGORIAN
BEGIN:VEVENT
URL:https://www.learndesk.us/class/4608670140727296/lesson/eddbc205433b1ce26761396807ca713f?ref=outlook-calendar
SUMMARY:Delete Table Using DROP Query
DTSTART;TZID=America/Los_Angeles:20260423T190000
DTEND;TZID=America/Los_Angeles:20260423T200000
LOCATION:https://www.learndesk.us/class/4608670140727296/lesson/eddbc205433b1ce26761396807ca713f?ref=outlook-calendar
DESCRIPTION: The DROP TABLE statement is used to drop an existing table in a database.

https://www.learndesk.us/class/4608670140727296/lesson/eddbc205433b1ce26761396807ca713f?ref=outlook-calendar
STATUS:CONFIRMED
SEQUENCE:3
BEGIN:VALARM
TRIGGER:-PT10M
DESCRIPTION:Class Reminder
ACTION:DISPLAY
END:VALARM
END:VEVENT
END:VCALENDAR