BEGIN:VCALENDAR
VERSION:2.0
CALSCALE:GREGORIAN
BEGIN:VEVENT
URL:https://www.learndesk.us/class/4608670140727296/lesson/e796d731033c2dd7ae192f655d42a541?ref=outlook-calendar
SUMMARY:Triggering An Exception
DTSTART;TZID=America/Los_Angeles:20260423T190000
DTEND;TZID=America/Los_Angeles:20260423T200000
LOCATION:https://www.learndesk.us/class/4608670140727296/lesson/e796d731033c2dd7ae192f655d42a541?ref=outlook-calendar
DESCRIPTION: An exception is an event, which occurs during the execution of a program, that disrupts the normal flow of the program's instructions. When an error occurs within a method, the method creates an object and hands it off to the runtime system. ... This block of code is called an exception handler.

https://www.learndesk.us/class/4608670140727296/lesson/e796d731033c2dd7ae192f655d42a541?ref=outlook-calendar
STATUS:CONFIRMED
SEQUENCE:3
BEGIN:VALARM
TRIGGER:-PT10M
DESCRIPTION:Class Reminder
ACTION:DISPLAY
END:VALARM
END:VEVENT
END:VCALENDAR