BEGIN:VCALENDAR
VERSION:2.0
CALSCALE:GREGORIAN
BEGIN:VEVENT
URL:https://www.learndesk.us/class/4608670140727296/lesson/e590ca5c5c21a9b23af7e28869f6d174?ref=outlook-calendar
SUMMARY:What Is XML?
DTSTART;TZID=America/Los_Angeles:20260423T190000
DTEND;TZID=America/Los_Angeles:20260423T200000
LOCATION:https://www.learndesk.us/class/4608670140727296/lesson/e590ca5c5c21a9b23af7e28869f6d174?ref=outlook-calendar
DESCRIPTION: XML stands for eXtensible Markup Language. XML is a markup language much like HTML. XML was designed to store and transport data. XML was designed to be self-descriptive. XML is a W3C Recommendation.

https://www.learndesk.us/class/4608670140727296/lesson/e590ca5c5c21a9b23af7e28869f6d174?ref=outlook-calendar
STATUS:CONFIRMED
SEQUENCE:3
BEGIN:VALARM
TRIGGER:-PT10M
DESCRIPTION:Class Reminder
ACTION:DISPLAY
END:VALARM
END:VEVENT
END:VCALENDAR