BEGIN:VCALENDAR
VERSION:2.0
CALSCALE:GREGORIAN
BEGIN:VEVENT
URL:https://www.learndesk.us/class/4608670140727296/lesson/e4ac124b7bfec91860e79f21b6042497?ref=outlook-calendar
SUMMARY:do...While Loop
DTSTART;TZID=America/Los_Angeles:20260423T190000
DTEND;TZID=America/Los_Angeles:20260423T200000
LOCATION:https://www.learndesk.us/class/4608670140727296/lesson/e4ac124b7bfec91860e79f21b6042497?ref=outlook-calendar
DESCRIPTION: In most computer programming languages, a do while loop is a control flow statement that executes a block of code at least once, and then repeatedly executes the block, or not, depending on a given boolean condition at the end of the block.

https://www.learndesk.us/class/4608670140727296/lesson/e4ac124b7bfec91860e79f21b6042497?ref=outlook-calendar
STATUS:CONFIRMED
SEQUENCE:3
BEGIN:VALARM
TRIGGER:-PT10M
DESCRIPTION:Class Reminder
ACTION:DISPLAY
END:VALARM
END:VEVENT
END:VCALENDAR