BEGIN:VCALENDAR
VERSION:2.0
CALSCALE:GREGORIAN
BEGIN:VEVENT
URL:https://www.learndesk.us/class/4608670140727296/lesson/e35d4c4763ef11ff06091079df25111a?ref=outlook-calendar
SUMMARY:Email Attachments
DTSTART;TZID=America/Los_Angeles:20260423T190000
DTEND;TZID=America/Los_Angeles:20260423T200000
LOCATION:https://www.learndesk.us/class/4608670140727296/lesson/e35d4c4763ef11ff06091079df25111a?ref=outlook-calendar
DESCRIPTION: The mail() function doesn’t support attachment or HTML mail by default. You need to use different headers and MIME mail parts to make this possible.

https://www.learndesk.us/class/4608670140727296/lesson/e35d4c4763ef11ff06091079df25111a?ref=outlook-calendar
STATUS:CONFIRMED
SEQUENCE:3
BEGIN:VALARM
TRIGGER:-PT10M
DESCRIPTION:Class Reminder
ACTION:DISPLAY
END:VALARM
END:VEVENT
END:VCALENDAR