BEGIN:VCALENDAR
VERSION:2.0
CALSCALE:GREGORIAN
BEGIN:VEVENT
URL:https://www.learndesk.us/class/4608670140727296/lesson/e1ebdaf11ed4fe271067d8d804c4b986?ref=outlook-calendar
SUMMARY:Validating Form Data With PHP
DTSTART;TZID=America/Los_Angeles:20260423T190000
DTEND;TZID=America/Los_Angeles:20260423T200000
LOCATION:https://www.learndesk.us/class/4608670140727296/lesson/e1ebdaf11ed4fe271067d8d804c4b986?ref=outlook-calendar
DESCRIPTION: The first thing we will do is to pass all variables through PHP's htmlspecialchars() function.

https://www.learndesk.us/class/4608670140727296/lesson/e1ebdaf11ed4fe271067d8d804c4b986?ref=outlook-calendar
STATUS:CONFIRMED
SEQUENCE:3
BEGIN:VALARM
TRIGGER:-PT10M
DESCRIPTION:Class Reminder
ACTION:DISPLAY
END:VALARM
END:VEVENT
END:VCALENDAR