BEGIN:VCALENDAR
VERSION:2.0
CALSCALE:GREGORIAN
BEGIN:VEVENT
URL:https://www.learndesk.us/class/4608670140727296/lesson/da1c59e54ac39a98af08e6dfcb959cb0?ref=outlook-calendar
SUMMARY:Default Argument Value
DTSTART;TZID=America/Los_Angeles:20260423T190000
DTEND;TZID=America/Los_Angeles:20260423T200000
LOCATION:https://www.learndesk.us/class/4608670140727296/lesson/da1c59e54ac39a98af08e6dfcb959cb0?ref=outlook-calendar
DESCRIPTION: A default argument is a value provided in a function declaration that is automatically assigned by the compiler if the caller of the function doesn't provide a value for the argument with a default value.

https://www.learndesk.us/class/4608670140727296/lesson/da1c59e54ac39a98af08e6dfcb959cb0?ref=outlook-calendar
STATUS:CONFIRMED
SEQUENCE:3
BEGIN:VALARM
TRIGGER:-PT10M
DESCRIPTION:Class Reminder
ACTION:DISPLAY
END:VALARM
END:VEVENT
END:VCALENDAR