BEGIN:VCALENDAR
VERSION:2.0
CALSCALE:GREGORIAN
BEGIN:VEVENT
URL:https://www.learndesk.us/class/4608670140727296/lesson/da03250bf10915dc4fc4dd8aeb25f953?ref=outlook-calendar
SUMMARY:Looping through XML Using The Dom Parser
DTSTART;TZID=America/Los_Angeles:20260423T190000
DTEND;TZID=America/Los_Angeles:20260423T200000
LOCATION:https://www.learndesk.us/class/4608670140727296/lesson/da03250bf10915dc4fc4dd8aeb25f953?ref=outlook-calendar
DESCRIPTION: Looping means traversing through or traveling across the node tree.

https://www.learndesk.us/class/4608670140727296/lesson/da03250bf10915dc4fc4dd8aeb25f953?ref=outlook-calendar
STATUS:CONFIRMED
SEQUENCE:3
BEGIN:VALARM
TRIGGER:-PT10M
DESCRIPTION:Class Reminder
ACTION:DISPLAY
END:VALARM
END:VEVENT
END:VCALENDAR