BEGIN:VCALENDAR
VERSION:2.0
CALSCALE:GREGORIAN
BEGIN:VEVENT
URL:https://www.learndesk.us/class/4608670140727296/lesson/d89a3be4cdd1422dab268cdfbb05b3c4?ref=outlook-calendar
SUMMARY:LIKE Property For Pattern Search
DTSTART;TZID=America/Los_Angeles:20260423T190000
DTEND;TZID=America/Los_Angeles:20260423T200000
LOCATION:https://www.learndesk.us/class/4608670140727296/lesson/d89a3be4cdd1422dab268cdfbb05b3c4?ref=outlook-calendar
DESCRIPTION: The LIKE operator is used in a WHERE clause to search for a specified pattern in a column.

There are two wildcards often used in conjunction with the LIKE operator:

% - The percent sign represents zero, one, or multiple characters

_ - The underscore represents a single character

https://www.learndesk.us/class/4608670140727296/lesson/d89a3be4cdd1422dab268cdfbb05b3c4?ref=outlook-calendar
STATUS:CONFIRMED
SEQUENCE:3
BEGIN:VALARM
TRIGGER:-PT10M
DESCRIPTION:Class Reminder
ACTION:DISPLAY
END:VALARM
END:VEVENT
END:VCALENDAR