BEGIN:VCALENDAR
VERSION:2.0
CALSCALE:GREGORIAN
BEGIN:VEVENT
URL:https://www.learndesk.us/class/4608670140727296/lesson/d22d310f3a596a1de7d7d3245ade4fcf?ref=outlook-calendar
SUMMARY:Update Data Using UPDATE Query
DTSTART;TZID=America/Los_Angeles:20260423T190000
DTEND;TZID=America/Los_Angeles:20260423T200000
LOCATION:https://www.learndesk.us/class/4608670140727296/lesson/d22d310f3a596a1de7d7d3245ade4fcf?ref=outlook-calendar
DESCRIPTION: The UPDATE statement is used to modify the existing records in a table.

https://www.learndesk.us/class/4608670140727296/lesson/d22d310f3a596a1de7d7d3245ade4fcf?ref=outlook-calendar
STATUS:CONFIRMED
SEQUENCE:3
BEGIN:VALARM
TRIGGER:-PT10M
DESCRIPTION:Class Reminder
ACTION:DISPLAY
END:VALARM
END:VEVENT
END:VCALENDAR